BEGIN:VCALENDAR
VERSION:2.0
PRODID:-//Virginia Beach Frontline Firefighter - ECPv6.15.16.1//NONSGML v1.0//EN
CALSCALE:GREGORIAN
METHOD:PUBLISH
X-WR-CALNAME:Virginia Beach Frontline Firefighter
X-ORIGINAL-URL:https://vbfdfrontline.com
X-WR-CALDESC:Events for Virginia Beach Frontline Firefighter
REFRESH-INTERVAL;VALUE=DURATION:PT1H
X-Robots-Tag:noindex
X-PUBLISHED-TTL:PT1H
BEGIN:VTIMEZONE
TZID:America/New_York
BEGIN:DAYLIGHT
TZOFFSETFROM:-0500
TZOFFSETTO:-0400
TZNAME:EDT
DTSTART:20250309T070000
END:DAYLIGHT
BEGIN:STANDARD
TZOFFSETFROM:-0400
TZOFFSETTO:-0500
TZNAME:EST
DTSTART:20251102T060000
END:STANDARD
BEGIN:DAYLIGHT
TZOFFSETFROM:-0500
TZOFFSETTO:-0400
TZNAME:EDT
DTSTART:20260308T070000
END:DAYLIGHT
BEGIN:STANDARD
TZOFFSETFROM:-0400
TZOFFSETTO:-0500
TZNAME:EST
DTSTART:20261101T060000
END:STANDARD
BEGIN:DAYLIGHT
TZOFFSETFROM:-0500
TZOFFSETTO:-0400
TZNAME:EDT
DTSTART:20270314T070000
END:DAYLIGHT
BEGIN:STANDARD
TZOFFSETFROM:-0400
TZOFFSETTO:-0500
TZNAME:EST
DTSTART:20271107T060000
END:STANDARD
END:VTIMEZONE
BEGIN:VEVENT
DTSTART;VALUE=DATE:20260424
DTEND;VALUE=DATE:20260425
DTSTAMP:20260424T153556
CREATED:20260227T000851Z
LAST-MODIFIED:20260424T193230Z
UID:492403-1776988800-1777075199@vbfdfrontline.com
SUMMARY:B SHIFT
DESCRIPTION:
URL:https://vbfdfrontline.com/event/b-shift-296/
END:VEVENT
BEGIN:VEVENT
DTSTART;TZID=America/New_York:20260424T080000
DTEND;TZID=America/New_York:20260424T170000
DTSTAMP:20260424T153556
CREATED:20260227T140735Z
LAST-MODIFIED:20260424T193226Z
UID:492567-1777017600-1777050000@vbfdfrontline.com
SUMMARY:VBFA 20/21 - VBFD Orientation - Day 2
DESCRIPTION:
URL:https://vbfdfrontline.com/event/vbfa-20-21-vbfd-orientation-day-2/
LOCATION:Fire Training Bennet Hall; Fire Training Classroom 2; Fire Training Classroom 1
END:VEVENT
BEGIN:VEVENT
DTSTART;TZID=America/New_York:20260424T090000
DTEND;TZID=America/New_York:20260424T110000
DTSTAMP:20260424T153556
CREATED:20260330T151909Z
LAST-MODIFIED:20260424T143319Z
UID:499542-1777021200-1777028400@vbfdfrontline.com
SUMMARY:FRS Swim Training E11 & L11. (L08 Backfill Co-11)
DESCRIPTION:
URL:https://vbfdfrontline.com/event/frs-swim-training-e11-l11-l08-backfill-co-11/
LOCATION:Princess Anne Recreation Center (1400 Nimmo Pkwy\, Virginia Beach\, VA 23456\, United States)
END:VEVENT
BEGIN:VEVENT
DTSTART;TZID=America/New_York:20260424T110000
DTEND;TZID=America/New_York:20260424T140000
DTSTAMP:20260424T153556
CREATED:20260418T120303Z
LAST-MODIFIED:20260424T173226Z
UID:502707-1777028400-1777039200@vbfdfrontline.com
SUMMARY:Career Day @ Betty F. Williams ES - E02
DESCRIPTION:
URL:https://vbfdfrontline.com/event/career-day-betty-f-williams-es-e02/
LOCATION:Betty F. Williams ES
END:VEVENT
BEGIN:VEVENT
DTSTART;TZID=America/New_York:20260424T120000
DTEND;TZID=America/New_York:20260424T140000
DTSTAMP:20260424T153556
CREATED:20260416T121830Z
LAST-MODIFIED:20260424T173231Z
UID:502294-1777032000-1777039200@vbfdfrontline.com
SUMMARY:CERP Drill @ Great Neck MS - E01
DESCRIPTION:
URL:https://vbfdfrontline.com/event/cerp-drill-great-neck-ms-e08-l08-bf/
LOCATION:Great Neck Middle School
END:VEVENT
BEGIN:VEVENT
DTSTART;TZID=America/New_York:20260424T123500
DTEND;TZID=America/New_York:20260424T134500
DTSTAMP:20260424T153556
CREATED:20260413T173428Z
LAST-MODIFIED:20260420T193816Z
UID:501643-1777034100-1777038300@vbfdfrontline.com
SUMMARY:Life Safety & 18-B @ Green Run Elementary School
DESCRIPTION:
URL:https://vbfdfrontline.com/event/life-safety-18-b-green-run-elementary-school/
END:VEVENT
BEGIN:VEVENT
DTSTART;TZID=America/New_York:20260424T130000
DTEND;TZID=America/New_York:20260424T160000
DTSTAMP:20260424T153556
CREATED:20260406T010508Z
LAST-MODIFIED:20260424T193232Z
UID:500471-1777035600-1777046400@vbfdfrontline.com
SUMMARY:Marine Fire Boat Training: E12 E 11/ 14 BF FS 12)
DESCRIPTION:
URL:https://vbfdfrontline.com/event/marine-fire-boat-training-e12-e-11-14-bf-fs-12-2/
END:VEVENT
BEGIN:VEVENT
DTSTART;TZID=America/New_York:20260424T160000
DTEND;TZID=America/New_York:20260424T170000
DTSTAMP:20260424T153556
CREATED:20260422T212221Z
LAST-MODIFIED:20260424T193231Z
UID:503380-1777046400-1777050000@vbfdfrontline.com
SUMMARY:CADET Interviews - M. Croft/ V. Bryant Small Conf
DESCRIPTION:
URL:https://vbfdfrontline.com/event/cadet-interviews-m-croft-v-bryant-small-conf/
LOCATION:Fire Training Conference Room 2 Small
END:VEVENT
END:VCALENDAR